BEGIN:VCALENDAR
VERSION:2.0
METHOD:PUBLISH
BEGIN:VEVENT
DTSTART:20250204T170000Z
DTEND:20250208T230000Z
LOCATION:Colorado Springs, CO 80907
TRANSP: OPAQUE
SEQUENCE:0
UID:
DTSTAMP:20260425T104711Z
SUMMARY:Augie & Bear Vintage Warehouse
DESCRIPTION:Augie & Bear Vintage Warehouse Augie & Bear 
UID:1777135631
STREET-ADDRESS:See website
POSTAL-CODE:80907
LOCALITY:Colorado Springs
REGION:ABBREV=CO
COUNTRY:ABBREV=US;ABBREV=USA:United States
URL;TYPE=Event Listing:https://estatesales.org/estate-sales/co/colorado-springs/80907/augie-bear-vintage-warehouse-2360204
PRIORITY:1
CLASS:PUBLIC
SEQUENCE:0
STATUS:CONFIRMED
TRANSP:OPAQUE
END:VEVENT
END:VCALENDAR
