BEGIN:VCALENDAR
VERSION:2.0
METHOD:PUBLISH
BEGIN:VEVENT
DTSTART:20220204T150000Z
DTEND:20220206T190000Z
LOCATION:Decatur, GA 30033
TRANSP: OPAQUE
SEQUENCE:0
UID:
DTSTAMP:20260422T104957Z
SUMMARY:50 % OFF SUNDAY  - TERRIFIC DECATUR SAGAMORE ESTATE SALE BY ROCKET ESTATE SALES!
DESCRIPTION:50 % OFF SUNDAY  - TERRIFIC DECATUR SAGAMORE ESTATE SALE BY ROCKET ESTATE SALES! ROCKET ESTATE SALES CO. 
UID:1776876597
STREET-ADDRESS:See website
POSTAL-CODE:30033
LOCALITY:Decatur
REGION:ABBREV=GA
COUNTRY:ABBREV=US;ABBREV=USA:United States
URL;TYPE=Event Listing:https://estatesales.org/estate-sales/ga/decatur/30033/50-off-sunday-terrific-decatur-2004041
PRIORITY:1
CLASS:PUBLIC
SEQUENCE:0
STATUS:CONFIRMED
TRANSP:OPAQUE
END:VEVENT
END:VCALENDAR
