BEGIN:VCALENDAR
VERSION:2.0
METHOD:PUBLISH
BEGIN:VEVENT
DTSTART:20220204T180000Z
DTEND:20220205T200000Z
LOCATION:Upland, CA 91786
TRANSP: OPAQUE
SEQUENCE:0
UID:
DTSTAMP:20260425T131125Z
SUMMARY:Grason's Co. Pomona Valley presents a HUGE two day sale in Upland
DESCRIPTION:Grason's Co. Pomona Valley presents a HUGE two day sale in Upland Grasons Pomona Valley 
UID:1777144285
STREET-ADDRESS:See website
POSTAL-CODE:91786
LOCALITY:Upland
REGION:ABBREV=CA
COUNTRY:ABBREV=US;ABBREV=USA:United States
URL;TYPE=Event Listing:https://estatesales.org/estate-sales/ca/upland/91786/grasons-co-pomona-valley-presents-2003831
PRIORITY:1
CLASS:PUBLIC
SEQUENCE:0
STATUS:CONFIRMED
TRANSP:OPAQUE
END:VEVENT
END:VCALENDAR
