BEGIN:VCALENDAR
VERSION:2.0
METHOD:PUBLISH
BEGIN:VEVENT
DTSTART:20210204T150000Z
DTEND:20210206T210000Z
LOCATION:Kemp, TX 75143
TRANSP: OPAQUE
SEQUENCE:0
UID:
DTSTAMP:20260424T215831Z
SUMMARY:Lakeside Estate Sale at Cedar Creek Country Club Area
DESCRIPTION:Lakeside Estate Sale at Cedar Creek Country Club Area Lakeside Estate Sales, CGL LLC. 
UID:1777089511
STREET-ADDRESS:See website
POSTAL-CODE:75143
LOCALITY:Kemp
REGION:ABBREV=TX
COUNTRY:ABBREV=US;ABBREV=USA:United States
URL;TYPE=Event Listing:https://estatesales.org/estate-sales/tx/kemp/75143/lakeside-estate-sale-at-cedar-1861685
PRIORITY:1
CLASS:PUBLIC
SEQUENCE:0
STATUS:CONFIRMED
TRANSP:OPAQUE
END:VEVENT
END:VCALENDAR
