BEGIN:VCALENDAR
VERSION:2.0
METHOD:PUBLISH
BEGIN:VEVENT
DTSTART:20160204T150000Z
DTEND:20160206T210000Z
LOCATION:Plainfield, IL 60586
TRANSP: OPAQUE
SEQUENCE:0
UID:
DTSTAMP:20260420T162631Z
SUMMARY:*SUBTLE TREASURES*HAS SOMETHING FOR EVERYONE HERE!!! DO NOT MISS THIS!!! 
DESCRIPTION:*SUBTLE TREASURES*HAS SOMETHING FOR EVERYONE HERE!!! DO NOT MISS THIS!!!  Subtle Treasures 
UID:1776723991
STREET-ADDRESS:See website
POSTAL-CODE:60586
LOCALITY:Plainfield
REGION:ABBREV=IL
COUNTRY:ABBREV=US;ABBREV=USA:United States
URL;TYPE=Event Listing:https://estatesales.org/estate-sales/il/plainfield/60586/subtle-treasureshas-something-for-everyone-766223
PRIORITY:1
CLASS:PUBLIC
SEQUENCE:0
STATUS:CONFIRMED
TRANSP:OPAQUE
END:VEVENT
END:VCALENDAR
