BEGIN:VCALENDAR
VERSION:2.0
METHOD:PUBLISH
BEGIN:VEVENT
DTSTART:20260203T150000Z
DTEND:20260207T230000Z
LOCATION:Stillman Valley, IL 61084
TRANSP: OPAQUE
SEQUENCE:0
UID:
DTSTAMP:20260425T171422Z
SUMMARY:Estate sale
DESCRIPTION:Estate sale
UID:1777158862
STREET-ADDRESS:See website
POSTAL-CODE:61084
LOCALITY:Stillman Valley
REGION:ABBREV=IL
COUNTRY:ABBREV=US;ABBREV=USA:United States
URL;TYPE=Event Listing:https://estatesales.org/estate-sales/il/stillman-valley-/61084/estate-sale-2423307
PRIORITY:1
CLASS:PUBLIC
SEQUENCE:0
STATUS:CONFIRMED
TRANSP:OPAQUE
END:VEVENT
END:VCALENDAR
