BEGIN:VCALENDAR
VERSION:2.0
METHOD:PUBLISH
BEGIN:VEVENT
DTSTART:20240203T140000Z
DTEND:20240204T190000Z
LOCATION:Nokesville, VA 20181
TRANSP: OPAQUE
SEQUENCE:0
UID:
DTSTAMP:20260423T123524Z
SUMMARY:Knokesville , Retirenment
DESCRIPTION:Knokesville , Retirenment Dixie Charm Estate Sales 
UID:1776969324
STREET-ADDRESS:See website
POSTAL-CODE:20181
LOCALITY:Nokesville
REGION:ABBREV=VA
COUNTRY:ABBREV=US;ABBREV=USA:United States
URL;TYPE=Event Listing:https://estatesales.org/estate-sales/va/nokesville/20181/knokesville-retirenment-2277559
PRIORITY:1
CLASS:PUBLIC
SEQUENCE:0
STATUS:CONFIRMED
TRANSP:OPAQUE
END:VEVENT
END:VCALENDAR
