BEGIN:VCALENDAR
VERSION:2.0
METHOD:PUBLISH
BEGIN:VEVENT
DTSTART:20240203T170000Z
DTEND:20240204T220000Z
LOCATION:Sherman Oaks, CA 91403
TRANSP: OPAQUE
SEQUENCE:0
UID:
DTSTAMP:20260420T021114Z
SUMMARY:Pounds of Sterling, Gold and more in this Amazing Packed Estate. Collectibles, Decor, Art, Coins, Jewelry 'n More. Don't Miss This! A lot for everyone!
DESCRIPTION:Pounds of Sterling, Gold and more in this Amazing Packed Estate. Collectibles, Decor, Art, Coins, Jewelry 'n More. Don't Miss This! A lot for everyone! Triumphant Estate Sales of Los Angeles 
UID:1776672674
STREET-ADDRESS:See website
POSTAL-CODE:91403
LOCALITY:Sherman Oaks
REGION:ABBREV=CA
COUNTRY:ABBREV=US;ABBREV=USA:United States
URL;TYPE=Event Listing:https://estatesales.org/estate-sales/ca/sherman-oaks/91403/pounds-of-sterling-gold-and-2277135
PRIORITY:1
CLASS:PUBLIC
SEQUENCE:0
STATUS:CONFIRMED
TRANSP:OPAQUE
END:VEVENT
END:VCALENDAR
