BEGIN:VCALENDAR
VERSION:2.0
METHOD:PUBLISH
BEGIN:VEVENT
DTSTART:20240203T140000Z
DTEND:20240204T180000Z
LOCATION:Camillus, NY 13031
TRANSP: OPAQUE
SEQUENCE:0
UID:
DTSTAMP:20260423T074747Z
SUMMARY:Camillus Estate Sale
DESCRIPTION:Camillus Estate Sale Clear Horizon Estate Services 
UID:1776952067
STREET-ADDRESS:See website
POSTAL-CODE:13031
LOCALITY:Camillus
REGION:ABBREV=NY
COUNTRY:ABBREV=US;ABBREV=USA:United States
URL;TYPE=Event Listing:https://estatesales.org/estate-sales/ny/camillus/13031/camillus-estate-sale-2278127
PRIORITY:1
CLASS:PUBLIC
SEQUENCE:0
STATUS:CONFIRMED
TRANSP:OPAQUE
END:VEVENT
END:VCALENDAR
