BEGIN:VCALENDAR
VERSION:2.0
METHOD:PUBLISH
BEGIN:VEVENT
DTSTART:20170203T140000Z
DTEND:20170205T210000Z
LOCATION:Saint Louis, MO 63128
TRANSP: OPAQUE
SEQUENCE:0
UID:
DTSTAMP:20260419T105906Z
SUMMARY:South County Estate Sale by Pennies In Your Pocket
DESCRIPTION:South County Estate Sale by Pennies In Your Pocket Pennies In Your Pocket Estate Sale and Appraisal Services 
UID:1776617946
STREET-ADDRESS:See website
POSTAL-CODE:63128
LOCALITY:Saint Louis
REGION:ABBREV=MO
COUNTRY:ABBREV=US;ABBREV=USA:United States
URL;TYPE=Event Listing:https://estatesales.org/estate-sales/mo/saint-louis/63128/south-county-estate-sale-by-1072415
PRIORITY:1
CLASS:PUBLIC
SEQUENCE:0
STATUS:CONFIRMED
TRANSP:OPAQUE
END:VEVENT
END:VCALENDAR
