BEGIN:VCALENDAR
VERSION:2.0
METHOD:PUBLISH
BEGIN:VEVENT
DTSTART:20170203T170000Z
DTEND:20170205T010000Z
LOCATION:Sonoma, CA 95476
TRANSP: OPAQUE
SEQUENCE:0
UID:
DTSTAMP:20260421T124128Z
SUMMARY:Wine Country Treasures!!! BIG ESTATE SALE THIS WEEKEND!!! Tons of Antiques and hidden treasures unearthed...
DESCRIPTION:Wine Country Treasures!!! BIG ESTATE SALE THIS WEEKEND!!! Tons of Antiques and hidden treasures unearthed... The Mystic & The Monk 
UID:1776796888
STREET-ADDRESS:See website
POSTAL-CODE:95476
LOCALITY:Sonoma
REGION:ABBREV=CA
COUNTRY:ABBREV=US;ABBREV=USA:United States
URL;TYPE=Event Listing:https://estatesales.org/estate-sales/ca/sonoma/95476/wine-country-treasures-big-estate-1072271
PRIORITY:1
CLASS:PUBLIC
SEQUENCE:0
STATUS:CONFIRMED
TRANSP:OPAQUE
END:VEVENT
END:VCALENDAR
