BEGIN:VCALENDAR
VERSION:2.0
METHOD:PUBLISH
BEGIN:VEVENT
DTSTART:20240202T180000Z
DTEND:20240204T220000Z
LOCATION:Fremont, CA 94539
TRANSP: OPAQUE
SEQUENCE:0
UID:
DTSTAMP:20260421T170452Z
SUMMARY:Grasons Co of Alameda County - Fremont Antique 3-Day Estate Sale
DESCRIPTION:Grasons Co of Alameda County - Fremont Antique 3-Day Estate Sale Grasons   Of Alameda County 
UID:1776812692
STREET-ADDRESS:See website
POSTAL-CODE:94539
LOCALITY:Fremont
REGION:ABBREV=CA
COUNTRY:ABBREV=US;ABBREV=USA:United States
URL;TYPE=Event Listing:https://estatesales.org/estate-sales/ca/fremont/94539/grasons-co-of-alameda-county-2276121
PRIORITY:1
CLASS:PUBLIC
SEQUENCE:0
STATUS:CONFIRMED
TRANSP:OPAQUE
END:VEVENT
END:VCALENDAR
