BEGIN:VCALENDAR
VERSION:2.0
METHOD:PUBLISH
BEGIN:VEVENT
DTSTART:20230202T160000Z
DTEND:20230204T210000Z
LOCATION:Waconia, MN 55387
TRANSP: OPAQUE
SEQUENCE:0
UID:
DTSTAMP:20260424T040311Z
SUMMARY:Jasper family Estate Sale
DESCRIPTION:Jasper family Estate Sale Moving On Asset Liquidation 
UID:1777024991
STREET-ADDRESS:See website
POSTAL-CODE:55387
LOCALITY:Waconia
REGION:ABBREV=MN
COUNTRY:ABBREV=US;ABBREV=USA:United States
URL;TYPE=Event Listing:https://estatesales.org/estate-sales/mn/waconia/55387/jasper-family-estate-sale-2133771
PRIORITY:1
CLASS:PUBLIC
SEQUENCE:0
STATUS:CONFIRMED
TRANSP:OPAQUE
END:VEVENT
END:VCALENDAR
