BEGIN:VCALENDAR
VERSION:2.0
METHOD:PUBLISH
BEGIN:VEVENT
DTSTART:20230202T150000Z
DTEND:20230204T210000Z
LOCATION:Scottsdale, AZ 85254
TRANSP: OPAQUE
SEQUENCE:0
UID:
DTSTAMP:20260423T162938Z
SUMMARY:Lythcoop -Scottsdale Estate Sale - 50% OFF SATURDAY 
DESCRIPTION:Lythcoop -Scottsdale Estate Sale - 50% OFF SATURDAY  Lythcoop Estate Liquidators LLC 
UID:1776983378
STREET-ADDRESS:See website
POSTAL-CODE:85254
LOCALITY:Scottsdale
REGION:ABBREV=AZ
COUNTRY:ABBREV=US;ABBREV=USA:United States
URL;TYPE=Event Listing:https://estatesales.org/estate-sales/az/scottsdale/85254/lythcoop-scottsdale-estate-sale-50-2141635
PRIORITY:1
CLASS:PUBLIC
SEQUENCE:0
STATUS:CONFIRMED
TRANSP:OPAQUE
END:VEVENT
END:VCALENDAR
