BEGIN:VCALENDAR
VERSION:2.0
METHOD:PUBLISH
BEGIN:VEVENT
DTSTART:20180203T000000Z
DTEND:20180204T230000Z
LOCATION:Dallas, TX 75287
TRANSP: OPAQUE
SEQUENCE:0
UID:
DTSTAMP:20260420T105217Z
SUMMARY:Beautiful Traditional Home By Appointment Only
DESCRIPTION:Beautiful Traditional Home By Appointment Only Coulter's Collectables 
UID:1776703937
STREET-ADDRESS:See website
POSTAL-CODE:75287
LOCALITY:Dallas
REGION:ABBREV=TX
COUNTRY:ABBREV=US;ABBREV=USA:United States
URL;TYPE=Event Listing:https://estatesales.org/estate-sales/tx/dallas/75287/beautiful-traditional-home-by-appointment-1475035
PRIORITY:1
CLASS:PUBLIC
SEQUENCE:0
STATUS:CONFIRMED
TRANSP:OPAQUE
END:VEVENT
END:VCALENDAR
