BEGIN:VCALENDAR
VERSION:2.0
METHOD:PUBLISH
BEGIN:VEVENT
DTSTART:20260201T170000Z
DTEND:20260201T220000Z
LOCATION:Wantagh, NY 11793
TRANSP: OPAQUE
SEQUENCE:0
UID:
DTSTAMP:20260420T030215Z
SUMMARY:🔥 ESTATE SALE – LAST DAY 🔥 Hosted by Thrift Happens 📍 3655 John Street, Wantagh, NY 🗓 Sunday, February 1st ⏰ 12:00 PM – 5:00 PM
DESCRIPTION:🔥 ESTATE SALE – LAST DAY 🔥 Hosted by Thrift Happens 📍 3655 John Street, Wantagh, NY 🗓 Sunday, February 1st ⏰ 12:00 PM – 5:00 PM THRIFT HAPPENS 
UID:1776675735
STREET-ADDRESS:See website
POSTAL-CODE:11793
LOCALITY:Wantagh
REGION:ABBREV=NY
COUNTRY:ABBREV=US;ABBREV=USA:United States
URL;TYPE=Event Listing:https://estatesales.org/estate-sales/ny/wantagh-/11793/estate-sale-last-day-hosted-2423404
PRIORITY:1
CLASS:PUBLIC
SEQUENCE:0
STATUS:CONFIRMED
TRANSP:OPAQUE
END:VEVENT
END:VCALENDAR
