BEGIN:VCALENDAR
VERSION:2.0
METHOD:PUBLISH
BEGIN:VEVENT
DTSTART:20250201T160000Z
DTEND:20250201T200000Z
LOCATION:Atlanta, GA 30331
TRANSP: OPAQUE
SEQUENCE:0
UID:
DTSTAMP:20260419T125226Z
SUMMARY:CLEARANCE SALE- Everything Must Go! Resellers, Buyouts, Bundlers & Pickers Paradise!
DESCRIPTION:CLEARANCE SALE- Everything Must Go! Resellers, Buyouts, Bundlers & Pickers Paradise! ESTATE SALE SOLUTIONS LLC 
UID:1776624746
STREET-ADDRESS:See website
POSTAL-CODE:30331
LOCALITY:Atlanta
REGION:ABBREV=GA
COUNTRY:ABBREV=US;ABBREV=USA:United States
URL;TYPE=Event Listing:https://estatesales.org/estate-sales/ga/atlanta/30331/clearance-sale-everything-must-go-2359613
PRIORITY:1
CLASS:PUBLIC
SEQUENCE:0
STATUS:CONFIRMED
TRANSP:OPAQUE
END:VEVENT
END:VCALENDAR
