BEGIN:VCALENDAR
VERSION:2.0
METHOD:PUBLISH
BEGIN:VEVENT
DTSTART:20210201T140000Z
DTEND:20210202T180000Z
LOCATION:Montgomery, AL 36106
TRANSP: OPAQUE
SEQUENCE:0
UID:
DTSTAMP:20260419T203951Z
SUMMARY:Great Old Cloverdale Estate Sale
DESCRIPTION:Great Old Cloverdale Estate Sale Michael J. Respess Estate Sales and Appraisals 
UID:1776652791
STREET-ADDRESS:See website
POSTAL-CODE:36106
LOCALITY:Montgomery
REGION:ABBREV=AL
COUNTRY:ABBREV=US;ABBREV=USA:United States
URL;TYPE=Event Listing:https://estatesales.org/estate-sales/al/montgomery/36106/great-old-cloverdale-estate-sale-1863535
PRIORITY:1
CLASS:PUBLIC
SEQUENCE:0
STATUS:CONFIRMED
TRANSP:OPAQUE
END:VEVENT
END:VCALENDAR
