BEGIN:VCALENDAR
VERSION:2.0
METHOD:PUBLISH
BEGIN:VEVENT
DTSTART:20260131T160000Z
DTEND:20260202T210000Z
LOCATION:Lenexa, KS 66215
TRANSP: OPAQUE
SEQUENCE:0
UID:
DTSTAMP:20260419T082746Z
SUMMARY:Caring Transitions KC Lenexa Beauty
DESCRIPTION:Caring Transitions KC Lenexa Beauty Caring Transitions Kansas City 
UID:1776608866
STREET-ADDRESS:See website
POSTAL-CODE:66215
LOCALITY:Lenexa
REGION:ABBREV=KS
COUNTRY:ABBREV=US;ABBREV=USA:United States
URL;TYPE=Event Listing:https://estatesales.org/estate-sales/ks/shawnee-mission/66215/caring-transitions-kc-lenexa-beauty-2423186
PRIORITY:1
CLASS:PUBLIC
SEQUENCE:0
STATUS:CONFIRMED
TRANSP:OPAQUE
END:VEVENT
END:VCALENDAR
