BEGIN:VCALENDAR
VERSION:2.0
METHOD:PUBLISH
BEGIN:VEVENT
DTSTART:20260131T140000Z
DTEND:20260131T200000Z
LOCATION:Nyack, NY 10960
TRANSP: OPAQUE
SEQUENCE:0
UID:
DTSTAMP:20260423T130408Z
SUMMARY:Town & Country Estate Sales
DESCRIPTION:Town & Country Estate Sales Town & Country Estate & Moving Sales 
UID:1776971048
STREET-ADDRESS:See website
POSTAL-CODE:10960
LOCALITY:Nyack
REGION:ABBREV=NY
COUNTRY:ABBREV=US;ABBREV=USA:United States
URL;TYPE=Event Listing:https://estatesales.org/estate-sales/ny/upper-nyack/10960/town-country-estate-sales-2422349
PRIORITY:1
CLASS:PUBLIC
SEQUENCE:0
STATUS:CONFIRMED
TRANSP:OPAQUE
END:VEVENT
END:VCALENDAR
