BEGIN:VCALENDAR
VERSION:2.0
METHOD:PUBLISH
BEGIN:VEVENT
DTSTART:20250131T150000Z
DTEND:20250201T220000Z
LOCATION:Appleton, WI 54911
TRANSP: OPAQUE
SEQUENCE:0
UID:
DTSTAMP:20260424T213713Z
SUMMARY:Appleton, ESTATE SALE BY THE " Estate Sale Squad". Friday January 31, and Saturday February 1, 2025
DESCRIPTION:Appleton, ESTATE SALE BY THE " Estate Sale Squad". Friday January 31, and Saturday February 1, 2025 Estate Sale Squad LLC 
UID:1777088233
STREET-ADDRESS:See website
POSTAL-CODE:54911
LOCALITY:Appleton
REGION:ABBREV=WI
COUNTRY:ABBREV=US;ABBREV=USA:United States
URL;TYPE=Event Listing:https://estatesales.org/estate-sales/wi/appleton/54911/appleton-estate-sale-by-the-2359503
PRIORITY:1
CLASS:PUBLIC
SEQUENCE:0
STATUS:CONFIRMED
TRANSP:OPAQUE
END:VEVENT
END:VCALENDAR
