BEGIN:VCALENDAR
VERSION:2.0
METHOD:PUBLISH
BEGIN:VEVENT
DTSTART:20250131T140000Z
DTEND:20250201T210000Z
LOCATION:Zephyrhills, FL 33542
TRANSP: OPAQUE
SEQUENCE:0
UID:
DTSTAMP:20260423T083540Z
SUMMARY:V Patton Estates ZEPHYRHILLS Dolls, Tea Pots, Collectibles, Outdoor Furniture!
DESCRIPTION:V Patton Estates ZEPHYRHILLS Dolls, Tea Pots, Collectibles, Outdoor Furniture! V Patton Estate Sale Options 
UID:1776954940
STREET-ADDRESS:See website
POSTAL-CODE:33542
LOCALITY:Zephyrhills
REGION:ABBREV=FL
COUNTRY:ABBREV=US;ABBREV=USA:United States
URL;TYPE=Event Listing:https://estatesales.org/estate-sales/fl/zephyrhills/33542/v-patton-estates-zephyrhills-dolls-2359197
PRIORITY:1
CLASS:PUBLIC
SEQUENCE:0
STATUS:CONFIRMED
TRANSP:OPAQUE
END:VEVENT
END:VCALENDAR
