BEGIN:VCALENDAR
VERSION:2.0
METHOD:PUBLISH
BEGIN:VEVENT
DTSTART:20250131T170000Z
DTEND:20250201T220000Z
LOCATION:Bakersfield, CA 93308
TRANSP: OPAQUE
SEQUENCE:0
UID:
DTSTAMP:20260421T115744Z
SUMMARY:Senior Move Manager & More! Presents "A Household of Treasures" in Bakersfield, CA
DESCRIPTION:Senior Move Manager & More! Presents "A Household of Treasures" in Bakersfield, CA Senior Move Manager & More! 
UID:1776794264
STREET-ADDRESS:See website
POSTAL-CODE:93308
LOCALITY:Bakersfield
REGION:ABBREV=CA
COUNTRY:ABBREV=US;ABBREV=USA:United States
URL;TYPE=Event Listing:https://estatesales.org/estate-sales/ca/bakersfield/93308/senior-move-manager-more-presents-2358626
PRIORITY:1
CLASS:PUBLIC
SEQUENCE:0
STATUS:CONFIRMED
TRANSP:OPAQUE
END:VEVENT
END:VCALENDAR
