BEGIN:VCALENDAR
VERSION:2.0
METHOD:PUBLISH
BEGIN:VEVENT
DTSTART:20190131T170000Z
DTEND:20190203T010000Z
LOCATION:Rancho Cucamonga, CA 91739
TRANSP: OPAQUE
SEQUENCE:0
UID:
DTSTAMP:20260425T055133Z
SUMMARY:    MAGNIFICENT CALIFORNIA DREAM HOME Selling off   entire place Featuring: Man Room , Ladies Closet, Jewelry,Art, Modern Furnishing , Garden Art Indoor & Outdoor Furniture,Games,Ephemeral    
DESCRIPTION:    MAGNIFICENT CALIFORNIA DREAM HOME Selling off   entire place Featuring: Man Room , Ladies Closet, Jewelry,Art, Modern Furnishing , Garden Art Indoor & Outdoor Furniture,Games,Ephemeral     Sweet Memories 
UID:1777117893
STREET-ADDRESS:See website
POSTAL-CODE:91739
LOCALITY:Rancho Cucamonga
REGION:ABBREV=CA
COUNTRY:ABBREV=US;ABBREV=USA:United States
URL;TYPE=Event Listing:https://estatesales.org/estate-sales/ca/rancho-cucamonga/91739/magnificent-california-dream-home-selling-1609125
PRIORITY:1
CLASS:PUBLIC
SEQUENCE:0
STATUS:CONFIRMED
TRANSP:OPAQUE
END:VEVENT
END:VCALENDAR
