BEGIN:VCALENDAR
VERSION:2.0
METHOD:PUBLISH
BEGIN:VEVENT
DTSTART:20260130T150000Z
DTEND:20260201T200000Z
LOCATION:Washington, DC 20016
TRANSP: OPAQUE
SEQUENCE:0
UID:
DTSTAMP:20260422T030657Z
SUMMARY:Urban Elegance Estate Sale in Wesley Heights DC
DESCRIPTION:Urban Elegance Estate Sale in Wesley Heights DC TheHunt 
UID:1776848817
STREET-ADDRESS:See website
POSTAL-CODE:20016
LOCALITY:Washington
REGION:ABBREV=DC
COUNTRY:ABBREV=US;ABBREV=USA:United States
URL;TYPE=Event Listing:https://estatesales.org/estate-sales/dc/washington/20016/urban-elegance-estate-sale-in-2422413
PRIORITY:1
CLASS:PUBLIC
SEQUENCE:0
STATUS:CONFIRMED
TRANSP:OPAQUE
END:VEVENT
END:VCALENDAR
