BEGIN:VCALENDAR
VERSION:2.0
METHOD:PUBLISH
BEGIN:VEVENT
DTSTART:20260130T150000Z
DTEND:20260131T200000Z
LOCATION:Virginia Beach, VA 23455
TRANSP: OPAQUE
SEQUENCE:0
UID:
DTSTAMP:20260421T032608Z
SUMMARY:2 DAY ESTATE SALE FRI-SAT 1/30-1/31 10AM-3PM 1125 CYPRESS POINT WAY, VA BEACH
DESCRIPTION:2 DAY ESTATE SALE FRI-SAT 1/30-1/31 10AM-3PM 1125 CYPRESS POINT WAY, VA BEACH Randy's Auction Gallery Ltd. 
UID:1776763568
STREET-ADDRESS:See website
POSTAL-CODE:23455
LOCALITY:Virginia Beach
REGION:ABBREV=VA
COUNTRY:ABBREV=US;ABBREV=USA:United States
URL;TYPE=Event Listing:https://estatesales.org/estate-sales/va/virginia-beach/23455/2-day-estate-sale-frisat-2421457
PRIORITY:1
CLASS:PUBLIC
SEQUENCE:0
STATUS:CONFIRMED
TRANSP:OPAQUE
END:VEVENT
END:VCALENDAR
