BEGIN:VCALENDAR
VERSION:2.0
METHOD:PUBLISH
BEGIN:VEVENT
DTSTART:20260130T170000Z
DTEND:20260131T210000Z
LOCATION:Apache Junction, AZ 85119
TRANSP: OPAQUE
SEQUENCE:0
UID:
DTSTAMP:20260421T230519Z
SUMMARY:Ebay Reseller & Interior Designer Liquidating Inventory
DESCRIPTION:Ebay Reseller & Interior Designer Liquidating Inventory Boyds AZ 
UID:1776834319
STREET-ADDRESS:See website
POSTAL-CODE:85119
LOCALITY:Apache Junction
REGION:ABBREV=AZ
COUNTRY:ABBREV=US;ABBREV=USA:United States
URL;TYPE=Event Listing:https://estatesales.org/estate-sales/az/apache-junction/85119/ebay-reseller-interior-designer-liquidating-2421580
PRIORITY:1
CLASS:PUBLIC
SEQUENCE:0
STATUS:CONFIRMED
TRANSP:OPAQUE
END:VEVENT
END:VCALENDAR
