BEGIN:VCALENDAR
VERSION:2.0
METHOD:PUBLISH
BEGIN:VEVENT
DTSTART:20260130T170000Z
DTEND:20260131T210000Z
LOCATION:Chino, CA 91710
TRANSP: OPAQUE
SEQUENCE:0
UID:
DTSTAMP:20260421T131653Z
SUMMARY:50-90% OFF (SEE DESCRIPTION) MANCAVE SALE - TOOLS, EQUIPMENT GALORE in Chino
DESCRIPTION:50-90% OFF (SEE DESCRIPTION) MANCAVE SALE - TOOLS, EQUIPMENT GALORE in Chino Grasons Pomona Valley 
UID:1776799013
STREET-ADDRESS:See website
POSTAL-CODE:91710
LOCALITY:Chino
REGION:ABBREV=CA
COUNTRY:ABBREV=US;ABBREV=USA:United States
URL;TYPE=Event Listing:https://estatesales.org/estate-sales/ca/chino/91710/mancave-sale-tools-equipment-galore-2420753
PRIORITY:1
CLASS:PUBLIC
SEQUENCE:0
STATUS:CONFIRMED
TRANSP:OPAQUE
END:VEVENT
END:VCALENDAR
