BEGIN:VCALENDAR
VERSION:2.0
METHOD:PUBLISH
BEGIN:VEVENT
DTSTART:20250130T160000Z
DTEND:20250201T210000Z
LOCATION:Yorba Linda, CA 92886
TRANSP: OPAQUE
SEQUENCE:0
UID:
DTSTAMP:20260424T122046Z
SUMMARY:FINAL SALE DAY - 50% OFF EVERYTHING!! YORBA LINDA ESTATE SALE BY AVERSA ESTATE SALES
DESCRIPTION:FINAL SALE DAY - 50% OFF EVERYTHING!! YORBA LINDA ESTATE SALE BY AVERSA ESTATE SALES Aversa Estate Sales & Appraisals 
UID:1777054846
STREET-ADDRESS:See website
POSTAL-CODE:92886
LOCALITY:Yorba Linda
REGION:ABBREV=CA
COUNTRY:ABBREV=US;ABBREV=USA:United States
URL;TYPE=Event Listing:https://estatesales.org/estate-sales/ca/yorba-linda/92886/final-sale-day-50-off-2357017
PRIORITY:1
CLASS:PUBLIC
SEQUENCE:0
STATUS:CONFIRMED
TRANSP:OPAQUE
END:VEVENT
END:VCALENDAR
