BEGIN:VCALENDAR
VERSION:2.0
METHOD:PUBLISH
BEGIN:VEVENT
DTSTART:20160130T160000Z
DTEND:20160131T230000Z
LOCATION:Port Orchard, WA 98367
TRANSP: OPAQUE
SEQUENCE:0
UID:
DTSTAMP:20260424T133525Z
SUMMARY:Port Orchard Estate Sale
DESCRIPTION:Port Orchard Estate Sale P W Green Antiques & Estate Sales 
UID:1777059325
STREET-ADDRESS:See website
POSTAL-CODE:98367
LOCALITY:Port Orchard
REGION:ABBREV=WA
COUNTRY:ABBREV=US;ABBREV=USA:United States
URL;TYPE=Event Listing:https://estatesales.org/estate-sales/wa/port-orchard/98367/port-orchard-estate-sale-755573
PRIORITY:1
CLASS:PUBLIC
SEQUENCE:0
STATUS:CONFIRMED
TRANSP:OPAQUE
END:VEVENT
END:VCALENDAR
