BEGIN:VCALENDAR
VERSION:2.0
METHOD:PUBLISH
BEGIN:VEVENT
DTSTART:20260129T130000Z
DTEND:20260131T170000Z
LOCATION:Ozark, MO 65721
TRANSP: OPAQUE
SEQUENCE:0
UID:
DTSTAMP:20260420T080736Z
SUMMARY:Wellington Ozark Estate Sale
DESCRIPTION:Wellington Ozark Estate Sale Christina & Co To The Rescue 
UID:1776694056
STREET-ADDRESS:See website
POSTAL-CODE:65721
LOCALITY:Ozark
REGION:ABBREV=MO
COUNTRY:ABBREV=US;ABBREV=USA:United States
URL;TYPE=Event Listing:https://estatesales.org/estate-sales/mo/ozark/65721/wellington-ozark-estate-sale-2421387
PRIORITY:1
CLASS:PUBLIC
SEQUENCE:0
STATUS:CONFIRMED
TRANSP:OPAQUE
END:VEVENT
END:VCALENDAR
