BEGIN:VCALENDAR
VERSION:2.0
METHOD:PUBLISH
BEGIN:VEVENT
DTSTART:20260129T210000Z
DTEND:20260131T210000Z
LOCATION:Edmond, OK 73013
TRANSP: OPAQUE
SEQUENCE:0
UID:
DTSTAMP:20260423T192956Z
SUMMARY:First Estate sale of 2026!
DESCRIPTION:First Estate sale of 2026! Clutter Free LLC 
UID:1776994196
STREET-ADDRESS:See website
POSTAL-CODE:73013
LOCALITY:Edmond
REGION:ABBREV=OK
COUNTRY:ABBREV=US;ABBREV=USA:United States
URL;TYPE=Event Listing:https://estatesales.org/estate-sales/ok/edmond/73013/first-estate-sale-of-2026-2422700
PRIORITY:1
CLASS:PUBLIC
SEQUENCE:0
STATUS:CONFIRMED
TRANSP:OPAQUE
END:VEVENT
END:VCALENDAR
