BEGIN:VCALENDAR
VERSION:2.0
METHOD:PUBLISH
BEGIN:VEVENT
DTSTART:20230129T180000Z
DTEND:20230129T220000Z
LOCATION:Bernalillo, NM 87004
TRANSP: OPAQUE
SEQUENCE:0
UID:
DTSTAMP:20260421T165847Z
SUMMARY:*SUNDAY ONLY-50% OFF EVERYTHING by APPOINTMENT ONLY! 
DESCRIPTION:*SUNDAY ONLY-50% OFF EVERYTHING by APPOINTMENT ONLY!  Everything But The Kitchen Sink, LLC 
UID:1776812327
STREET-ADDRESS:See website
POSTAL-CODE:87004
LOCALITY:Bernalillo
REGION:ABBREV=NM
COUNTRY:ABBREV=US;ABBREV=USA:United States
URL;TYPE=Event Listing:https://estatesales.org/estate-sales/nm/bernalillo/87004/sunday-only50-off-everything-by-2142519
PRIORITY:1
CLASS:PUBLIC
SEQUENCE:0
STATUS:CONFIRMED
TRANSP:OPAQUE
END:VEVENT
END:VCALENDAR
