BEGIN:VCALENDAR
VERSION:2.0
METHOD:PUBLISH
BEGIN:VEVENT
DTSTART:20220129T170000Z
DTEND:20220130T220000Z
LOCATION:Fontana, CA 92335
TRANSP: OPAQUE
SEQUENCE:0
UID:
DTSTAMP:20260425T045044Z
SUMMARY:Estate clean out, phase one
DESCRIPTION:Estate clean out, phase one Next Step Estate Sales 
UID:1777114244
STREET-ADDRESS:See website
POSTAL-CODE:92335
LOCALITY:Fontana
REGION:ABBREV=CA
COUNTRY:ABBREV=US;ABBREV=USA:United States
URL;TYPE=Event Listing:https://estatesales.org/estate-sales/ca/fontana/92335/estate-clean-out-phase-one-2002789
PRIORITY:1
CLASS:PUBLIC
SEQUENCE:0
STATUS:CONFIRMED
TRANSP:OPAQUE
END:VEVENT
END:VCALENDAR
