BEGIN:VCALENDAR
VERSION:2.0
METHOD:PUBLISH
BEGIN:VEVENT
DTSTART:20220129T170000Z
DTEND:20220130T220000Z
LOCATION:San Bernardino, CA 92411
TRANSP: OPAQUE
SEQUENCE:0
UID:
DTSTAMP:20260425T045044Z
SUMMARY:San Bernardino Reboot.
DESCRIPTION:San Bernardino Reboot. Next Step Estate Sales 
UID:1777114244
STREET-ADDRESS:See website
POSTAL-CODE:92411
LOCALITY:San Bernardino
REGION:ABBREV=CA
COUNTRY:ABBREV=US;ABBREV=USA:United States
URL;TYPE=Event Listing:https://estatesales.org/estate-sales/ca/san-bernardino/92411/san-bernardino-reboot-2002479
PRIORITY:1
CLASS:PUBLIC
SEQUENCE:0
STATUS:CONFIRMED
TRANSP:OPAQUE
END:VEVENT
END:VCALENDAR
