BEGIN:VCALENDAR
VERSION:2.0
METHOD:PUBLISH
BEGIN:VEVENT
DTSTART:20260128T160000Z
DTEND:20260130T200000Z
LOCATION:Waukesha, WI 53189
TRANSP: OPAQUE
SEQUENCE:0
UID:
DTSTAMP:20260421T163013Z
SUMMARY:***JEWELRY GALORE - OPEN TODAY AT 10AM*** – Sunshine Resale Store!
DESCRIPTION:***JEWELRY GALORE - OPEN TODAY AT 10AM*** – Sunshine Resale Store! Today's Lifestyle Solutions, LLC 
UID:1776810613
STREET-ADDRESS:See website
POSTAL-CODE:53189
LOCALITY:Waukesha
REGION:ABBREV=WI
COUNTRY:ABBREV=US;ABBREV=USA:United States
URL;TYPE=Event Listing:https://estatesales.org/estate-sales/wi/waukesha/53189/jewelry-galore-open-tomorrow-at-2422539
PRIORITY:1
CLASS:PUBLIC
SEQUENCE:0
STATUS:CONFIRMED
TRANSP:OPAQUE
END:VEVENT
END:VCALENDAR
