BEGIN:VCALENDAR
VERSION:2.0
METHOD:PUBLISH
BEGIN:VEVENT
DTSTART:20230128T170000Z
DTEND:20230129T200000Z
LOCATION:Hayward, CA 94541
TRANSP: OPAQUE
SEQUENCE:0
UID:
DTSTAMP:20260422T143832Z
SUMMARY:Hayward Estate Sale 50% Off
DESCRIPTION:Hayward Estate Sale 50% Off East Bay Estate Liquidations 
UID:1776890312
STREET-ADDRESS:See website
POSTAL-CODE:94541
LOCALITY:Hayward
REGION:ABBREV=CA
COUNTRY:ABBREV=US;ABBREV=USA:United States
URL;TYPE=Event Listing:https://estatesales.org/estate-sales/ca/hayward/94541/hayward-estate-sale-50-off-2141583
PRIORITY:1
CLASS:PUBLIC
SEQUENCE:0
STATUS:CONFIRMED
TRANSP:OPAQUE
END:VEVENT
END:VCALENDAR
