BEGIN:VCALENDAR
VERSION:2.0
METHOD:PUBLISH
BEGIN:VEVENT
DTSTART:20230128T170000Z
DTEND:20230129T213000Z
LOCATION:Pasadena, CA 91105
TRANSP: OPAQUE
SEQUENCE:0
UID:
DTSTAMP:20260420T021115Z
SUMMARY:Furniture Steal Deals Sunday and Discounted Collections, Antiques and More. The Sale To Come See!!
DESCRIPTION:Furniture Steal Deals Sunday and Discounted Collections, Antiques and More. The Sale To Come See!! Triumphant Estate Sales of Los Angeles 
UID:1776672675
STREET-ADDRESS:See website
POSTAL-CODE:91105
LOCALITY:Pasadena
REGION:ABBREV=CA
COUNTRY:ABBREV=US;ABBREV=USA:United States
URL;TYPE=Event Listing:https://estatesales.org/estate-sales/ca/pasadena/91105/packed-something-for-everyone-3700-2140257
PRIORITY:1
CLASS:PUBLIC
SEQUENCE:0
STATUS:CONFIRMED
TRANSP:OPAQUE
END:VEVENT
END:VCALENDAR
