BEGIN:VCALENDAR
VERSION:2.0
METHOD:PUBLISH
BEGIN:VEVENT
DTSTART:20170128T170000Z
DTEND:20170129T170000Z
LOCATION:Sacramento, CA 95831
TRANSP: OPAQUE
SEQUENCE:0
UID:
DTSTAMP:20260421T115539Z
SUMMARY:New  Life  presents an  American Contemporary Estate Sale 
DESCRIPTION:New  Life  presents an  American Contemporary Estate Sale  Calder Estate Sales and Liquidators 
UID:1776794139
STREET-ADDRESS:See website
POSTAL-CODE:95831
LOCALITY:Sacramento
REGION:ABBREV=CA
COUNTRY:ABBREV=US;ABBREV=USA:United States
URL;TYPE=Event Listing:https://estatesales.org/estate-sales/ca/sacramento/95831/new-life-presents-an-american-1067301
PRIORITY:1
CLASS:PUBLIC
SEQUENCE:0
STATUS:CONFIRMED
TRANSP:OPAQUE
END:VEVENT
END:VCALENDAR
