BEGIN:VCALENDAR
VERSION:2.0
METHOD:PUBLISH
BEGIN:VEVENT
DTSTART:20260127T182300Z
DTEND:20260209T230000Z
LOCATION:Leesburg, VA 20175
TRANSP: OPAQUE
SEQUENCE:0
UID:
DTSTAMP:20260420T044104Z
SUMMARY:Shop Equipment, Hardware and More Auction! (Feb 9)
DESCRIPTION:Shop Equipment, Hardware and More Auction! (Feb 9) Four Sales Ltd 
UID:1776681664
STREET-ADDRESS:See website
POSTAL-CODE:20175
LOCALITY:Leesburg
REGION:ABBREV=VA
COUNTRY:ABBREV=US;ABBREV=USA:United States
URL;TYPE=Event Listing:https://estatesales.org/estate-sales/va/leesburg/20175/shop-equipment-hardware-and-more-2422738
PRIORITY:1
CLASS:PUBLIC
SEQUENCE:0
STATUS:CONFIRMED
TRANSP:OPAQUE
END:VEVENT
END:VCALENDAR
