BEGIN:VCALENDAR
VERSION:2.0
METHOD:PUBLISH
BEGIN:VEVENT
DTSTART:20230127T170000Z
DTEND:20230128T230000Z
LOCATION:Seattle, WA 98168
TRANSP: OPAQUE
SEQUENCE:0
UID:
DTSTAMP:20260424T133600Z
SUMMARY:Burien Estate Sale 
DESCRIPTION:Burien Estate Sale  A&W Helping Hands Estate Sale services and full cleanouts 
UID:1777059360
STREET-ADDRESS:See website
POSTAL-CODE:98168
LOCALITY:Seattle
REGION:ABBREV=WA
COUNTRY:ABBREV=US;ABBREV=USA:United States
URL;TYPE=Event Listing:https://estatesales.org/estate-sales/wa/burien-/98168/burien-estate-sale-2141885
PRIORITY:1
CLASS:PUBLIC
SEQUENCE:0
STATUS:CONFIRMED
TRANSP:OPAQUE
END:VEVENT
END:VCALENDAR
