BEGIN:VCALENDAR
VERSION:2.0
METHOD:PUBLISH
BEGIN:VEVENT
DTSTART:20200127T180000Z
DTEND:20200128T065900Z
LOCATION:Tempe, AZ 85281
TRANSP: OPAQUE
SEQUENCE:0
UID:
DTSTAMP:20260420T225603Z
SUMMARY:Blue Leaf Auctions - Mon 11AM
DESCRIPTION:Blue Leaf Auctions - Mon 11AM Blue Leaf Estate Auctions 
UID:1776747363
STREET-ADDRESS:See website
POSTAL-CODE:85281
LOCALITY:Tempe
REGION:ABBREV=AZ
COUNTRY:ABBREV=US;ABBREV=USA:United States
URL;TYPE=Event Listing:https://estatesales.org/estate-sales/az/tempe/85281/blue-leaf-auctions-mon-11am-1758315
PRIORITY:1
CLASS:PUBLIC
SEQUENCE:0
STATUS:CONFIRMED
TRANSP:OPAQUE
END:VEVENT
END:VCALENDAR
