BEGIN:VCALENDAR
VERSION:2.0
METHOD:PUBLISH
BEGIN:VEVENT
DTSTART:20240126T150000Z
DTEND:20240127T170000Z
LOCATION:Savannah, GA 31419
TRANSP: OPAQUE
SEQUENCE:0
UID:
DTSTAMP:20260421T094858Z
SUMMARY:Windsor Forest Estate Sale - More Pictures Available On Our Website
DESCRIPTION:Windsor Forest Estate Sale - More Pictures Available On Our Website The Mint Green Tag Sale Company 
UID:1776786538
STREET-ADDRESS:See website
POSTAL-CODE:31419
LOCALITY:Savannah
REGION:ABBREV=GA
COUNTRY:ABBREV=US;ABBREV=USA:United States
URL;TYPE=Event Listing:https://estatesales.org/estate-sales/ga/savannah/31419/windsor-forest-estate-sale-more-2274885
PRIORITY:1
CLASS:PUBLIC
SEQUENCE:0
STATUS:CONFIRMED
TRANSP:OPAQUE
END:VEVENT
END:VCALENDAR
