BEGIN:VCALENDAR
VERSION:2.0
METHOD:PUBLISH
BEGIN:VEVENT
DTSTART:20180126T140000Z
DTEND:20180127T220000Z
LOCATION:Yonkers, NY 10708
TRANSP: OPAQUE
SEQUENCE:0
UID:
DTSTAMP:20260420T194459Z
SUMMARY:LAST DAY SATURDAY!!!!! ALL MUST GO!!!!!!! BRONXVILLE TRI STATE ESTATE SALE
DESCRIPTION:LAST DAY SATURDAY!!!!! ALL MUST GO!!!!!!! BRONXVILLE TRI STATE ESTATE SALE Tri State Estate Sales 
UID:1776735899
STREET-ADDRESS:See website
POSTAL-CODE:10708
LOCALITY:Yonkers
REGION:ABBREV=NY
COUNTRY:ABBREV=US;ABBREV=USA:United States
URL;TYPE=Event Listing:https://estatesales.org/estate-sales/ny/yonkers/10708/last-day-saturday-all-must-1473019
PRIORITY:1
CLASS:PUBLIC
SEQUENCE:0
STATUS:CONFIRMED
TRANSP:OPAQUE
END:VEVENT
END:VCALENDAR
