BEGIN:VCALENDAR
VERSION:2.0
METHOD:PUBLISH
BEGIN:VEVENT
DTSTART:20250125T150000Z
DTEND:20250126T210000Z
LOCATION:Washington, DC 20012
TRANSP: OPAQUE
SEQUENCE:0
UID:
DTSTAMP:20260421T163012Z
SUMMARY:Generations of Love on Leegate Road
DESCRIPTION:Generations of Love on Leegate Road Lasting Treasures Estate Sales 
UID:1776810612
STREET-ADDRESS:See website
POSTAL-CODE:20012
LOCALITY:Washington
REGION:ABBREV=DC
COUNTRY:ABBREV=US;ABBREV=USA:United States
URL;TYPE=Event Listing:https://estatesales.org/estate-sales/dc/washington/20012/generations-of-love-on-leegate-2358102
PRIORITY:1
CLASS:PUBLIC
SEQUENCE:0
STATUS:CONFIRMED
TRANSP:OPAQUE
END:VEVENT
END:VCALENDAR
