BEGIN:VCALENDAR
VERSION:2.0
METHOD:PUBLISH
BEGIN:VEVENT
DTSTART:20200125T150000Z
DTEND:20200126T210000Z
LOCATION:Fairborn, OH 45324
TRANSP: OPAQUE
SEQUENCE:0
UID:
DTSTAMP:20260419T074333Z
SUMMARY:Estate Sale by Gayle!
DESCRIPTION:Estate Sale by Gayle! Perkins Interiors & Estate Sales 
UID:1776606213
STREET-ADDRESS:See website
POSTAL-CODE:45324
LOCALITY:Fairborn
REGION:ABBREV=OH
COUNTRY:ABBREV=US;ABBREV=USA:United States
URL;TYPE=Event Listing:https://estatesales.org/estate-sales/oh/fairborn/45324/estate-sale-by-gayle-1759427
PRIORITY:1
CLASS:PUBLIC
SEQUENCE:0
STATUS:CONFIRMED
TRANSP:OPAQUE
END:VEVENT
END:VCALENDAR
