BEGIN:VCALENDAR
VERSION:2.0
METHOD:PUBLISH
BEGIN:VEVENT
DTSTART:20200125T130000Z
DTEND:20200126T200000Z
LOCATION:Saint Louis, MO 63125
TRANSP: OPAQUE
SEQUENCE:0
UID:
DTSTAMP:20260419T181751Z
SUMMARY:South County clean mid century, sports cards, household, furniture and more
DESCRIPTION:South County clean mid century, sports cards, household, furniture and more Lizzy Lou Estate Sales, LLC 
UID:1776644271
STREET-ADDRESS:See website
POSTAL-CODE:63125
LOCALITY:Saint Louis
REGION:ABBREV=MO
COUNTRY:ABBREV=US;ABBREV=USA:United States
URL;TYPE=Event Listing:https://estatesales.org/estate-sales/mo/saint-louis/63125/south-county-clean-mid-century-1758073
PRIORITY:1
CLASS:PUBLIC
SEQUENCE:0
STATUS:CONFIRMED
TRANSP:OPAQUE
END:VEVENT
END:VCALENDAR
