BEGIN:VCALENDAR
VERSION:2.0
METHOD:PUBLISH
BEGIN:VEVENT
DTSTART:20190125T160000Z
DTEND:20190126T220000Z
LOCATION:Bellevue, WA 98007
TRANSP: OPAQUE
SEQUENCE:0
UID:
DTSTAMP:20260421T124152Z
SUMMARY:Bellevue Estate Sale
DESCRIPTION:Bellevue Estate Sale Caring Transitions of Issaquah/Bellevue 
UID:1776796912
STREET-ADDRESS:See website
POSTAL-CODE:98007
LOCALITY:Bellevue
REGION:ABBREV=WA
COUNTRY:ABBREV=US;ABBREV=USA:United States
URL;TYPE=Event Listing:https://estatesales.org/estate-sales/wa/bellevue/98007/bellevue-estate-sale-1615025
PRIORITY:1
CLASS:PUBLIC
SEQUENCE:0
STATUS:CONFIRMED
TRANSP:OPAQUE
END:VEVENT
END:VCALENDAR
