BEGIN:VCALENDAR
VERSION:2.0
METHOD:PUBLISH
BEGIN:VEVENT
DTSTART:20260124T140000Z
DTEND:20260124T190000Z
LOCATION:Parkville, MD 21234
TRANSP: OPAQUE
SEQUENCE:0
UID:
DTSTAMP:20260425T203643Z
SUMMARY:SAT SALE ONLY DUE TO WEATHER Parkville Estate Sale
DESCRIPTION:SAT SALE ONLY DUE TO WEATHER Parkville Estate Sale Homeward Bound LLC 
UID:1777171003
STREET-ADDRESS:See website
POSTAL-CODE:21234
LOCALITY:Parkville
REGION:ABBREV=MD
COUNTRY:ABBREV=US;ABBREV=USA:United States
URL;TYPE=Event Listing:https://estatesales.org/estate-sales/md/parkville/21234/sat-sale-only-due-to-2419480
PRIORITY:1
CLASS:PUBLIC
SEQUENCE:0
STATUS:CONFIRMED
TRANSP:OPAQUE
END:VEVENT
END:VCALENDAR
