BEGIN:VCALENDAR
VERSION:2.0
METHOD:PUBLISH
BEGIN:VEVENT
DTSTART:20250124T170000Z
DTEND:20250125T220000Z
LOCATION:Santa Cruz, CA 95062
TRANSP: OPAQUE
SEQUENCE:0
UID:
DTSTAMP:20260421T211129Z
SUMMARY:Wonderful World Traveler & Artist Santa Cruz Jewel Box Estate Sale by Hammydownz!
DESCRIPTION:Wonderful World Traveler & Artist Santa Cruz Jewel Box Estate Sale by Hammydownz! Hammydownz 
UID:1776827489
STREET-ADDRESS:See website
POSTAL-CODE:95062
LOCALITY:Santa Cruz
REGION:ABBREV=CA
COUNTRY:ABBREV=US;ABBREV=USA:United States
URL;TYPE=Event Listing:https://estatesales.org/estate-sales/ca/santa-cruz/95062/wonderful-world-traveler-artist-santa-2358546
PRIORITY:1
CLASS:PUBLIC
SEQUENCE:0
STATUS:CONFIRMED
TRANSP:OPAQUE
END:VEVENT
END:VCALENDAR
